BEGIN:VCALENDAR
VERSION:2.0
PRODID:-//Grace of Mercy Prayer Mountain - ECPv6.15.20//NONSGML v1.0//EN
CALSCALE:GREGORIAN
METHOD:PUBLISH
X-WR-CALNAME:Grace of Mercy Prayer Mountain
X-ORIGINAL-URL:https://gmpmcac-usa.com
X-WR-CALDESC:Events for Grace of Mercy Prayer Mountain
REFRESH-INTERVAL;VALUE=DURATION:PT1H
X-Robots-Tag:noindex
X-PUBLISHED-TTL:PT1H
BEGIN:VTIMEZONE
TZID:UTC
BEGIN:STANDARD
TZOFFSETFROM:+0000
TZOFFSETTO:+0000
TZNAME:UTC
DTSTART:20250101T000000
END:STANDARD
END:VTIMEZONE
BEGIN:VEVENT
DTSTART;TZID=UTC:20260307T080000
DTEND;TZID=UTC:20260307T170000
DTSTAMP:20260422T212339
CREATED:20260307T151252Z
LAST-MODIFIED:20260307T151252Z
UID:21856-1772870400-1772902800@gmpmcac-usa.com
SUMMARY:Call for Volunteers – Prophet in the City (Winnipeg 2026)
DESCRIPTION:GMPM Canada is inviting passionate and committed individuals to volunteer during Prophet in the City – Winnipeg with Prophet Sam Olu-Alo. \nThis powerful prophetic gathering will bring healing\, deliverance\, prophetic prayers\, and divine breakthrough\, and volunteers are needed to support the program. \n✨ Volunteer Departments• Evangelism• Choir• Ushering• Protocol• Security• Prayer Team• Welfare• Media & Technical \n📅 Event ScheduleSaturday\, 25 July 2026 – 4:00 PMSunday\, 26 July 2026 – 8:00 AM \n📍 VenueGlenwood Community Centre27 Overton StreetWinnipeg\, MB R2M 2X8 \n#ProphetInTheCity #WinnipegRevival #GMPMCanada
URL:https://gmpmcac-usa.com/event/call-for-volunteers-prophet-in-the-city-winnipeg-2026/
CATEGORIES:Volunteer
ATTACH;FMTTYPE=image/jpeg:https://gmpmcac-usa.com/wp-content/uploads/2026/03/WhatsApp-Image-2026-02-16-at-02.51.41.jpeg
END:VEVENT
END:VCALENDAR