BEGIN:VCALENDAR
VERSION:2.0
PRODID:-//Grace of Mercy Prayer Mountain - ECPv6.15.20//NONSGML v1.0//EN
CALSCALE:GREGORIAN
METHOD:PUBLISH
X-ORIGINAL-URL:https://gmpmcac-usa.com
X-WR-CALDESC:Events for Grace of Mercy Prayer Mountain
REFRESH-INTERVAL;VALUE=DURATION:PT1H
X-Robots-Tag:noindex
X-PUBLISHED-TTL:PT1H
BEGIN:VTIMEZONE
TZID:UTC
BEGIN:STANDARD
TZOFFSETFROM:+0000
TZOFFSETTO:+0000
TZNAME:UTC
DTSTART:20250101T000000
END:STANDARD
END:VTIMEZONE
BEGIN:VEVENT
DTSTART;TZID=UTC:20260321T080000
DTEND;TZID=UTC:20260322T170000
DTSTAMP:20260422T213547
CREATED:20260307T145336Z
LAST-MODIFIED:20260307T145336Z
UID:21831-1774080000-1774198800@gmpmcac-usa.com
SUMMARY:Call for Volunteers – Prophet in the City (March Edition)
DESCRIPTION:GMPM Canada is inviting passionate and committed individuals to volunteer during Prophet in the City – March Edition with Prophet Sam Olu-Alo. \nThis powerful gathering is a Season of Empowerment\, Breakthrough & Advancement\, and volunteers play a vital role in ensuring the program runs smoothly while serving God and His people. \nWe are looking for dedicated volunteers to serve in the following departments: \nEvangelism • Choir • Ushering • Protocol • Security • Prayer Team • Welfare • Media & Technical \nVolunteering is an opportunity to serve\, grow spiritually\, and be part of what God is doing during this prophetic gathering. \nEvent Schedule\n📅 Saturday\, 21 March 2026 – 4:00 PM (Prompt)📅 Sunday\, 22 March 2026 – 8:00 AM (Prompt) \nVenue\n📍 Caledon East Community Complex – Banquet Hall6215 Old Church RoadCaledon East\, ON L7C 1J7 \nAll volunteers will receive further instructions and coordination details after registration. \n👉 Register to volunteer and be part of this impactful program.
URL:https://gmpmcac-usa.com/event/call-for-volunteers-prophet-in-the-city-march-edition/
CATEGORIES:Volunteer
ATTACH;FMTTYPE=image/jpeg:https://gmpmcac-usa.com/wp-content/uploads/2026/01/WhatsApp-Image-2026-01-26-at-20.26.47-1.jpeg
END:VEVENT
END:VCALENDAR